BEGIN:VCALENDAR
VERSION:2.0
PRODID:-//162.241.225.99//NONSGML kigkonsult.se iCalcreator 2.26.9//
CALSCALE:GREGORIAN
METHOD:PUBLISH
X-WR-CALNAME:Frënn vum Kielener Brennereimusée
X-WR-CALDESC:brennerei.lu
X-FROM-URL:http://www.brennerei.lu
X-WR-TIMEZONE:Europe/Paris
BEGIN:VTIMEZONE
TZID:Europe/Paris
X-LIC-LOCATION:Europe/Paris
BEGIN:STANDARD
DTSTART:20201025T030000
TZOFFSETFROM:+0200
TZOFFSETTO:+0100
RDATE:20211031T030000
TZNAME:CET
END:STANDARD
BEGIN:DAYLIGHT
DTSTART:20210328T020000
TZOFFSETFROM:+0100
TZOFFSETTO:+0200
RDATE:20220327T020000
TZNAME:CEST
END:DAYLIGHT
END:VTIMEZONE
BEGIN:VEVENT
UID:ai1ec-624@www.brennerei.lu
DTSTAMP:20210420T020242Z
CATEGORIES:
CONTACT:
DESCRIPTION:
DTSTART;TZID=Europe/Paris:20190430T190000
DTEND;TZID=Europe/Paris:20190430T230000
LOCATION:Musee @  13 Rue d'Olm\, 8281 Kehlen\, Luxemburg
SEQUENCE:0
SUMMARY:Meekranz
URL:http://www.brennerei.lu/Veranstaltung/meekranz/
X-COST-TYPE:free
END:VEVENT
END:VCALENDAR
